BEGIN:VCALENDAR
PRODID:-//eluceo/ical//2.0/EN
VERSION:2.0
CALSCALE:GREGORIAN
BEGIN:VEVENT
UID:event-392
DTSTAMP:20260424T001702Z
SUMMARY:SCHOENTJE ZETTEN
DESCRIPTION:Oh kom er eens kijken…  Kom donderdag 2 december tot 17:00
  langs op het Styloshok om voor 3 turf je schoen te zetten! Sta je nog n
 iet in het turfsysteem? Geen probleem\, dan is dit je kans.  Vrijdag 3 de
 cember kan je tot 17:00 je gevulde schoen weer ophalen.  Post Scriptum
 : Denk ook een beetje aan het bestuur\, geen stinkschoenen dus! \;) Groet
 jessss\,  Coco 128 
DTSTART:20211128T230000Z
DTEND:20211201T230000Z
END:VEVENT
BEGIN:VTIMEZONE
TZID:UTC
BEGIN:STANDARD
DTSTART:20211128T230000
TZNAME:UTC
TZOFFSETTO:+0000
TZOFFSETFROM:+0000
END:STANDARD
END:VTIMEZONE
END:VCALENDAR
