BEGIN:VCALENDAR
PRODID:-//eluceo/ical//2.0/EN
VERSION:2.0
CALSCALE:GREGORIAN
BEGIN:VEVENT
UID:event-399
DTSTAMP:20260421T142517Z
SUMMARY:DISCUSSION NIGHT
DESCRIPTION:Dit jaar willen we de discussie terugbrengen naar bouwkunde en 
 organiseren we meerdere discussieavonden. Volgende week is het dan tijd v
 oor de eerste discussieavond van Stylos: Naar aanleiding van het artikel 
 “What is the influence of politics on architecture” uit het pantheon//
  out of order magazine hebben we een avond waarin we met een groep van 30 
 man gaan discussieren over het artikel en de verschillende onderwerpen die
  herin worden besproken. Samen met de schrijver van het artikel en de edit
 or van het pantheon// magazine zullen we een avond vullen met interessante
  en verbredende discussies. Ben jij geinteresseerd om mee te doen aan de
 ze discussieavond? Kom dan op woensdag 15 december om 18.30 naar de Berlag
 ezaal om mee te doen aan deze discussieavond!! - This year we want to bri
 ng the discussion back to the faculty so we’re going to organize multipl
 e discussion nights. And next week it’s time for the first Stylos Discu
 ssion Night: We are going to talk with up to 30 people about the wonderful
  new article of the pantheon// out of order magazine “What is the influ
 ence of politics on architecture”. Together with the writer of the arti
 cle and the editor of the magazine we’ll fill the evening with interest
 ing discussions. Are you interested in participating in this discussion ni
 ght? Come to the Berlagezaal on Wednesday 15th December at 18.30 to join 
 in!
DTSTART:20211215T173000Z
DTEND:20211215T203000Z
END:VEVENT
BEGIN:VTIMEZONE
TZID:UTC
BEGIN:STANDARD
DTSTART:20211215T173000
TZNAME:UTC
TZOFFSETTO:+0000
TZOFFSETFROM:+0000
END:STANDARD
END:VTIMEZONE
END:VCALENDAR
