BEGIN:VCALENDAR
PRODID:-//eluceo/ical//2.0/EN
VERSION:2.0
CALSCALE:GREGORIAN
BEGIN:VEVENT
UID:event-746
DTSTAMP:20260424T114105Z
SUMMARY:DETACHED Dies Festival | Dies 131
DESCRIPTION:The DIES Party!  An epic DIES party at PIP Den Haag! A unique 
 venue just a 15-minute walk from The Hague HS Station. Party with all your
  fellow Bouwko’s until the early hours.  The party starts at 22:00 and 
 goes until 03:15. Doors close at 23:30\, so make sure you’re on time to 
 experience this unforgettable night!  Grab your friends and dress to impr
 ess! With an amazing atmosphere\, energetic music\, and everything you nee
 d for a top night\, this is the moment to celebrate the Dies together. Don
 ’t wait too long\, this is one party you don’t want to miss!  Note: T
 he party is 18+ so bring your id-card!
DTSTART:20250220T190000Z
DTEND:20250221T021500Z
END:VEVENT
BEGIN:VTIMEZONE
TZID:UTC
BEGIN:STANDARD
DTSTART:20250220T190000
TZNAME:UTC
TZOFFSETTO:+0000
TZOFFSETFROM:+0000
END:STANDARD
END:VTIMEZONE
END:VCALENDAR
