BEGIN:VCALENDAR
PRODID:-//eluceo/ical//2.0/EN
VERSION:2.0
CALSCALE:GREGORIAN
BEGIN:VEVENT
UID:event-850
DTSTAMP:20260424T065604Z
SUMMARY:Familiedag | 132
DESCRIPTION:Lieve bouwko’s\, Lijkt het jou leuk om je familie eens met hu
 n eigen ogen te laten zien wat jou als bouwko elke dag bezighoudt? De fami
 liedag is hier de ideale gelegenheid voor! Met onder andere activiteiten a
 ls colleges\, een maquetteworkshop en een speciale gastlezing is de dag ge
 vuld met alle wonderen van het eerstejaars bouwko leventje\, waarbij een a
 fsluiting in de bouwpub niet mag ontbreken! Het evenement vindt plaats op 
 30 mei\, van 10:30 - 18:00 uur\, hier op de bouwkunde faculteit! Schrijf j
 ezelf en maximaal 4 andere familieleden uiterlijk 13 mei in! De kosten zij
 n €14\,99 per persoon\, waarbij lunch en een leuke goodiebag zijn inbegr
 epen. We vragen jullie om je eigen stanleymes of schaar mee te nemen! Tot 
 30 mei! Familiedag Commissie 132
DTSTART:20260423T130235Z
DTEND:20260513T215900Z
END:VEVENT
BEGIN:VTIMEZONE
TZID:UTC
BEGIN:STANDARD
DTSTART:20260423T130235
TZNAME:UTC
TZOFFSETTO:+0000
TZOFFSETFROM:+0000
END:STANDARD
END:VTIMEZONE
END:VCALENDAR
