BEGIN:VCALENDAR
PRODID:-//eluceo/ical//2.0/EN
VERSION:2.0
CALSCALE:GREGORIAN
BEGIN:VEVENT
UID:event-225
DTSTAMP:20260423T091954Z
SUMMARY:Architaste | Excursie + Dies 126
DESCRIPTION:Tijdens de Diesweek vindt op maandag de Architaste plaats. Dit 
 jaar zal deze plaatsvinden in Den Haag. Bij het thema van de Diesweek ‘S
 hapeshifting’ staat op maandag de cirkel centraal. Daarom gaan we in Den
  Haag verschillende gebouwen bezoeken die hiermee te maken hebben. Daarnaa
 st kunnen we tussen de rondleidingen door op bijzondere plekken genieten v
 an verschillende vegetarische gerechten. We verzamelen om 16:45 uur op Sta
 tion Delft. Ticket Stylosleden: €30 Ticket externen: €32\,50 Tickets z
 ijn verkrijgbaar tot 14-02 om 12:00 uur. Tot dan! During the Diesweek on M
 onday the Architaste takes place. This year it will take place in The Hagu
 e. The theme of the Diesweek is ‘Shapeshifting”. The Monday in this we
 ek is all about the circle. That’s why we are going visit various buildi
 ngs related to this theme. In addition\, between the tours\, we can enjoy 
 various vegetarian dishes in some special places. We gather at 16:45 at De
 lft Station. Ticket Stylosmebers: €30 External participants: €32\,50 T
 ickets are available until 14-02 at 12:00 See you then!
DTSTART:20200217T154500Z
DTEND:20200217T203000Z
END:VEVENT
BEGIN:VTIMEZONE
TZID:UTC
BEGIN:STANDARD
DTSTART:20200217T154500
TZNAME:UTC
TZOFFSETTO:+0000
TZOFFSETFROM:+0000
END:STANDARD
END:VTIMEZONE
END:VCALENDAR
