BEGIN:VCALENDAR
PRODID:-//eluceo/ical//2.0/EN
VERSION:2.0
CALSCALE:GREGORIAN
BEGIN:VEVENT
UID:event-343
DTSTAMP:20260424T054718Z
SUMMARY:Rally 127: Wie is de Bouwko
DESCRIPTION:Zet je zonnebril op en doe je gordel maar alvast om want de ral
 ly komt er weer aan! Van 22 tot 24 mei zullen we ons eigen kikkerlandje do
 orkruisen van noord tot zuid. Volledig in het thema ‘Wie is de Bouwko’
  staat er een vol programma klaar waar bezoek aan de tofste architectuurlo
 caties gecombineerd zal worden met een spel element. Opgeven gaat in duo
 ’s. Samen rijd je het hele weekend in je eigen meegenomen auto en slaap 
 je met z’n tweeën op de kamer. Voor de overnachting kan nog een eigen b
 ijdrage van maximaal 120 euro per persoon in rekening worden gebracht. Ver
 der is het maximale aantal deelnemers jammer genoeg afhankelijk van de op 
 dat moment geldende coronamaatregelen. Desondanks niet getreurd\, het belo
 oft een spannende rit te worden! Dus wacht niet en scheur met gierende ban
 den voor 9 mei samen met je rally maatje naar stylos.nl.  Mocht je nog v
 ragen hebben over de rally dan kan je altijd mailen naar rally@stylos.nl L
 iefs\, De Rally commissie 127 --- Tighten your seatbelt and pop your sungl
 asses on because the rally is back! From May 22nd  until 24th we will tra
 vel north to south here in the Netherlands. Entirely devoted to this year
 ’s theme Who is the Bouwko\, named after the popular TV series\, we have
  set out a course where visits to the numerous architectural spots are com
 bined with a game element. You sign up as a duo with your rally partner. T
 ogether you bring your own vehicle and stay in the hotel. The maximum fee 
 has been set at 120 euros\, which will cover costs for the hotels. The max
 imum capacity for the rally is entirely dependent on the corona measures a
 t that time. Nevertheless it will be a thrilling ride! So don’t hesitate
  and race with screeching tires at stylos.nl.  Love\, The Rally Committee
  127
DTSTART:20210522T070000Z
DTEND:20210524T160000Z
END:VEVENT
BEGIN:VTIMEZONE
TZID:UTC
BEGIN:STANDARD
DTSTART:20210522T070000
TZNAME:UTC
TZOFFSETTO:+0000
TZOFFSETFROM:+0000
END:STANDARD
END:VTIMEZONE
END:VCALENDAR
