BEGIN:VCALENDAR
PRODID:-//eluceo/ical//2.0/EN
VERSION:2.0
CALSCALE:GREGORIAN
BEGIN:VEVENT
UID:event-349
DTSTAMP:20260424T021856Z
SUMMARY:Bookshop
DESCRIPTION:Price list FRAME €7\,5 FOAM €9\,0 DETAIL €2\,0 NOVUM €2
 \,5 DAMN €2\,5 Have a look inside each magazine! FRAME issue 132FRAME is
 sue 133FRAME issue 134FRAME issue 136FRAME issue 137 FOAM #12 TalentFOAM
  #19 WonderFOAM #26 HappyFOAM #32 TalentFOAM #39 TalentFOAM #49 Back 
 to the future DETAIL 1/2015 RoofsDETAIL 2/2015 Glass ConstructionDETAIL
  3/2015 Concept industrial buildingDETAIL 4/2015 Material and FinishesDE
 TAIL 5/2015 Solid Forms of Construction DETAIL 1/2017 Transparency/Transl
 ucencyDETAIL 2/2017 RefurbishmentDETAIL 3/2017 Concept: Housing for Seni
 orDETAIL 4/2017 Bioclimatic ConstructionDETAIL 5/ 2017 Serial Constructio
 n NOVUM 2019/2020 DAMN 2019/2020
DTSTART:20210523T220000Z
DTEND:20210528T215959Z
END:VEVENT
BEGIN:VTIMEZONE
TZID:UTC
BEGIN:STANDARD
DTSTART:20210523T220000
TZNAME:UTC
TZOFFSETTO:+0000
TZOFFSETFROM:+0000
END:STANDARD
END:VTIMEZONE
END:VCALENDAR
