BEGIN:VCALENDAR
PRODID:-//eluceo/ical//2.0/EN
VERSION:2.0
CALSCALE:GREGORIAN
BEGIN:VEVENT
UID:event-432
DTSTAMP:20260425T104912Z
SUMMARY:KLEDINGRUIL
DESCRIPTION:Volgende week wordt er door de actiecomissie in samenwerking me
 t BKgreen een KLEDINGRUIL georganiseerd! Kom op maandag 14 maart tussen 14
 :00 en 16:00 je kleding inleveren in zaal P\, dan vindt op dinsdag 15 maar
 t tussen 11:00 en 14:00 de kledingruil plaats! (ook in zaal P) Ook als je 
 geen kleding hebt om in te leveren ben je welkom\, dan werkt het als een k
 ilosale :)  Zo ga je modieus en duurzaam de lente in\, en het opgehaalde 
 geld wordt gedoneerd aan goede doelen in de Oekraïne.  Ga dit weekend no
 g op zoek naar kleding die jij zou willen ruilen en dan zien we je volgend
 e week!
DTSTART:20220313T230000Z
DTEND:20220314T230000Z
END:VEVENT
BEGIN:VTIMEZONE
TZID:UTC
BEGIN:STANDARD
DTSTART:20220313T230000
TZNAME:UTC
TZOFFSETTO:+0000
TZOFFSETFROM:+0000
END:STANDARD
END:VTIMEZONE
END:VCALENDAR
