BEGIN:VCALENDAR
PRODID:-//eluceo/ical//2.0/EN
VERSION:2.0
CALSCALE:GREGORIAN
BEGIN:VEVENT
UID:event-848
DTSTAMP:20260422T153151Z
SUMMARY:Word SteeWee mentor | 132
DESCRIPTION:Lieve potentiële mentoren\, Great Scott… de DeLorean staat k
 laar en wij zoeken duo’s die met ons op tijdreis willen tijdens de SteeW
 ee van 14 t/m 16 augustus 2026. Samen nemen we nieuwe eerstejaars mee op e
 en avontuur door de wereld van Bouwkunde\, en daar kunnen we natuurlijk ni
 et zonder een paar goede tijdreizigers bij. Denk jij dat jij en je duo de 
 Marty en Doc van SteeWee 132 zijn? Meld je aan! Jullie eerste missie: bewi
 js dat jullie de leukste mentoren zijn Maak samen een video waarin jullie 
 laten zien waarom júllie perfect zijn voor deze tijdreis\, en vul het ins
 chrijfformulier in. De regels van de video: •    🎥 Maak een video 
 van minimaal 1:32 minuut (toeval? Wij denken van niet) en maximaal 2:59 mi
 nuten  •    📺 Upload de video op YouTube  •    📩 Mail de
  link naar steewee@stylos.nl  •    📝 Gebruik als onderwerp: Mento
 ren Video 132 - voornaam mentor 1 + voornaam mentor 2  •    📝 Geb
 ruik als titel van de YouTube video: SteeWee 132 – voornaam mentor 1 + v
 oornaam mentor 2 (2026) •    ⏰ Deadline voor video én inschrijffor
 mulier: 18 mei om 23:59  Inspiratie nodig? Bekijk de mentorvideo’s van 
 SteeWee 131 of ouder en reis door eerdere tijdlijnen. Houd deze data in ie
 der geval vrij in je agenda: •    🧠 13 augustus — mentorbriefing
   •    🚀 14 t/m 16 augustus — SteeWee (hele dagen beschikbaar)
   En wat doe je eigenlijk als mentor? Jullie begeleiden een groep eerstej
 aars tijdens de activiteiten\, zorgen dat iedereen zich welkom voelt\, bre
 ngen sfeer in de groep en helpen nieuwe studenten elkaar\, de studie\, de 
 faculteit en Stylos leren kennen. Kortom: jullie maken hun eerste dagen bi
 j Bouwkunde onvergetelijk. Dus pak je favoriete duo-partner\, stap in de D
 eLorean\, trap naar 88 mph en stuur ons jullie video. The future is whatev
 er you make it… dus maak er iets moois van en word mentor. Voor vragen k
 un je mailen naar steewee@stylos.nl Liefs\, SteeWee 132 🩷
DTSTART:20260422T110458Z
DTEND:20260518T215959Z
END:VEVENT
BEGIN:VTIMEZONE
TZID:UTC
BEGIN:STANDARD
DTSTART:20260422T110458
TZNAME:UTC
TZOFFSETTO:+0000
TZOFFSETFROM:+0000
END:STANDARD
END:VTIMEZONE
END:VCALENDAR
