BEGIN:VCALENDAR
PRODID:-//eluceo/ical//2.0/EN
VERSION:2.0
CALSCALE:GREGORIAN
BEGIN:VEVENT
UID:event-849
DTSTAMP:20260423T134409Z
SUMMARY:CoCo Commissiebattle Finale | 132
DESCRIPTION:Lieve CoCommissieleden\, Hopelijk is de spanning tussen alle Co
 Commissies al een beetje aan het stijgen… want donderdag 30 april is het
  dan écht tijd voor de FINALE van de CoCommissiebattle. Het wordt een gew
 eldige avond waar jullie als CoCommissies elkaar op verschillende vlakken 
 zullen testen\, waaronder op het gebied van samenwerking\, kennis en tacti
 ek \;) En wat is een betere manier om deze kwaliteiten te testen dan door 
 een CoCombinatie van activiteiten als bowlen\, een escape room én een pub
 quiz! Trommel al je CoCommissiegenoten op! Bespreek onder het genot van Do
 mino’s pizzas van tevoren alvast jullie gameplan\, of sluit later aan om
  18.00 om je klaar te maken voor de strijd. De gehele avond zal in totaal 
 max. €10 euro per persoon kosten\, en voor de pizza’s betaal je een op
 tionele €6\,99 extra! En vergeet niet… een voorsprong op de andere CoC
 ommissies is van grote waarde. Dus gebruik deze laatste momenten om nog wa
 t extra puntjes binnen te sprokkelen door de opdrachten te doen! Inschrijv
 ingen sluiten op 29 april. Hopelijk tot dan! Liefs\, CoCo 132
DTSTART:20260423T120000Z
DTEND:20260429T215900Z
END:VEVENT
BEGIN:VTIMEZONE
TZID:UTC
BEGIN:STANDARD
DTSTART:20260423T120000
TZNAME:UTC
TZOFFSETTO:+0000
TZOFFSETFROM:+0000
END:STANDARD
END:VTIMEZONE
END:VCALENDAR
